{"text_format":"1","workbook":"xlsx","n_sheets":11,"sheets":["①　施設情報","②2019年1月分を貼り付ける","③2019年1月集計","④2019年6月分を貼り付ける","⑤2019年6月集計","⑥2021年1月分を貼り付ける","⑦2021年1月集計","⑧2021年6月分を貼り付ける","⑨2021年6月集計","⑩グラフ作成","⑪集計用"],"not_rendered":{"charts":2,"images":0,"macros":1,"external_links":0,"defined_names":1,"comments":0,"pivot_tables":4},"unopened":[],"bounds":{"document_bytes":16777216,"sheet_cells":100000,"rows_first":2000,"rows_last":500,"rows_between":2000,"halvings":0,"cell_chars":16384,"cell_head_chars":4096},"cells_cut":0,"cells_raw":0,"read":"whole","date_system":"1900"}

{"sheet":"①　施設情報","index":0,"n_rows":16,"n_cols":7,"rows_kept":16,"cut":false,"hidden":false,"merged":[]}
["黄色地の箇所（薬局名、報告者名、薬局の情報）を入力して下さい"]
["報告者名：　","薬局名："]
[]
[]
["No","質問内容","回答","回答","回答","回答","単位"]
[1,"調査年月","2019年1月","2019年6月","2021年1月","2021年6月"]
[2,"所属する都道府県"]
[3,"抽出した期間の処方箋受付回数（半角数字で入力してください）",null,null,null,null,"回"]
[4,"抽出した期間に受け付けた医療機関数（半角数字で入力してください）",null,null,null,null,"機関"]
[5,"抽出期間における集中率（半角数字で小数点第二位で四捨五入してください）",null,null,null,null,"％"]
[6,"薬局の立地をお選びください（最も近いものを1つだけ）（半角数字で入力してください）　\n1.診療所敷地内\n2.病院敷地内\n3.診療所近く\n4.中小・中堅病院（400床未満）近く\n5.大病院（400床以上）近く\n6.いわゆる医療モールやビル診と同じ建物内\n7.いわゆる医療モールやビル診の近く\n8.面対応型\n9.その他"]
[7,"薬局の立地場所をお選びください（最も近いものを１つだけ）（半角数字で入力してください）\n1.駅前\n2.商店街の中\n3.オフィス街\n4.住宅地\n5.幹線道路沿い\n6.農村地帯\n7.その他　"]
[8,"集中率が最も高い医療機関の形態を選択してください（半角数字で入力してください）\n1．病院\n2．診療所"]
[9,"集中率が最も高い医療機関の診療科を選択してください （半角英数字で入力して下さい）\n1.総合病院\n2.専門病院（内科系）\n3.専門病院（外科系）\n4.その他病院\n5.内科\n6小児科\n7.精神科\n8.外科\n9.整形外科\n10.産婦人科\n11.眼科\n12.耳鼻咽喉科\n13.皮膚科\n14.その他診療所"]
[10,"抽出した期間の小児科受付割合は何％ですか（半角数字で小数点第二位で四捨五入してください）",null,null,null,null,"％"]
[11,"抽出した期間の耳鼻科受付割合は何％ですか（半角数字で小数点第二位で四捨五入してください）",null,null,null,null,"％"]

{"sheet":"②2019年1月分を貼り付ける","index":1,"n_rows":1,"n_cols":8,"rows_kept":1,"cut":false,"hidden":false,"merged":[]}
["ATC4","ATCcode","ATC4分類名","略語","DDD(ABC-J)","DDD単位(ABC-J)","2019-01-01","[その他]"]

{"sheet":"③2019年1月集計","index":2,"n_rows":3,"n_cols":3,"rows_kept":3,"cut":false,"hidden":false,"merged":[]}
[]
[]
["ATC4","ATC4分類名","合計 / 2019年1月"]

{"sheet":"④2019年6月分を貼り付ける","index":3,"n_rows":1,"n_cols":8,"rows_kept":1,"cut":false,"hidden":false,"merged":[]}
["ATC4","ATCcode","ATC4分類名","略語","DDD(ABC-J)","DDD単位(ABC-J)","2019-06-01","[その他]"]

{"sheet":"⑤2019年6月集計","index":4,"n_rows":3,"n_cols":3,"rows_kept":3,"cut":false,"hidden":false,"merged":[]}
[]
[]
["ATC4","ATC4分類名","合計 / 2019年6月"]

{"sheet":"⑥2021年1月分を貼り付ける","index":5,"n_rows":1,"n_cols":8,"rows_kept":1,"cut":false,"hidden":false,"merged":[]}
["ATC4","ATCcode","ATC4分類名","略語","DDD(ABC-J)","DDD単位(ABC-J)","2021-01-01","[その他]"]

{"sheet":"⑦2021年1月集計","index":6,"n_rows":3,"n_cols":3,"rows_kept":3,"cut":false,"hidden":false,"merged":[]}
[]
[]
["ATC4","ATC4分類名","合計 / 2021年1月"]

{"sheet":"⑧2021年6月分を貼り付ける","index":7,"n_rows":1,"n_cols":8,"rows_kept":1,"cut":false,"hidden":false,"merged":[]}
["ATC4","ATCcode","ATC4分類名","略語","DDD(ABC-J)","DDD単位(ABC-J)","2021-06-01","[その他]"]

{"sheet":"⑨2021年6月集計","index":8,"n_rows":3,"n_cols":3,"rows_kept":3,"cut":false,"hidden":false,"merged":[]}
[]
[]
["ATC4","ATC4分類名","合計 / 2021年6月"]

{"sheet":"⑩グラフ作成","index":9,"n_rows":55,"n_cols":6,"rows_kept":55,"cut":false,"hidden":false,"merged":[]}
[]
["ATC4","ATC4分類名","2019-01-01","2019-06-01","2021-01-01","2021-06-01"]
["J01AA","テトラサイクリン",{"$f":"IFERROR(GETPIVOTDATA(\"2019年1月\",③2019年1月集計!$A$3,\"ATC4\",$A3,\"ATC4分類名\",$B3),\"\")","v":""},{"$f":"IFERROR(GETPIVOTDATA(\"2019年6月\",⑤2019年6月集計!$A$3,\"ATC4\",$A3,\"ATC4分類名\",$B3),\"\")","v":""},{"$f":"IFERROR(GETPIVOTDATA(\"2021年1月\",⑦2021年1月集計!$A$3,\"ATC4\",$A3,\"ATC4分類名\",$B3),\"\")","v":""},{"$f":"IFERROR(GETPIVOTDATA(\"2021年6月\",⑨2021年6月集計!$A$3,\"ATC4\",$A3,\"ATC4分類名\",$B3),\"\")","v":""}]
["J01BA","アンフェニコール",{"$f":"IFERROR(GETPIVOTDATA(\"2019年1月\",③2019年1月集計!$A$3,\"ATC4\",$A4,\"ATC4分類名\",$B4),\"\")","v":""},{"$f":"IFERROR(GETPIVOTDATA(\"2019年6月\",⑤2019年6月集計!$A$3,\"ATC4\",$A4,\"ATC4分類名\",$B4),\"\")","v":""},{"$f":"IFERROR(GETPIVOTDATA(\"2021年1月\",⑦2021年1月集計!$A$3,\"ATC4\",$A4,\"ATC4分類名\",$B4),\"\")","v":""},{"$f":"IFERROR(GETPIVOTDATA(\"2021年6月\",⑨2021年6月集計!$A$3,\"ATC4\",$A4,\"ATC4分類名\",$B4),\"\")","v":""}]
["J01CA","広域ペニシリン",{"$f":"IFERROR(GETPIVOTDATA(\"2019年1月\",③2019年1月集計!$A$3,\"ATC4\",$A5,\"ATC4分類名\",$B5),\"\")","v":""},{"$f":"IFERROR(GETPIVOTDATA(\"2019年6月\",⑤2019年6月集計!$A$3,\"ATC4\",$A5,\"ATC4分類名\",$B5),\"\")","v":""},{"$f":"IFERROR(GETPIVOTDATA(\"2021年1月\",⑦2021年1月集計!$A$3,\"ATC4\",$A5,\"ATC4分類名\",$B5),\"\")","v":""},{"$f":"IFERROR(GETPIVOTDATA(\"2021年6月\",⑨2021年6月集計!$A$3,\"ATC4\",$A5,\"ATC4分類名\",$B5),\"\")","v":""}]
["J01CE","βラクタマーゼ感性ペニシリン",{"$f":"IFERROR(GETPIVOTDATA(\"2019年1月\",③2019年1月集計!$A$3,\"ATC4\",$A6,\"ATC4分類名\",$B6),\"\")","v":""},{"$f":"IFERROR(GETPIVOTDATA(\"2019年6月\",⑤2019年6月集計!$A$3,\"ATC4\",$A6,\"ATC4分類名\",$B6),\"\")","v":""},{"$f":"IFERROR(GETPIVOTDATA(\"2021年1月\",⑦2021年1月集計!$A$3,\"ATC4\",$A6,\"ATC4分類名\",$B6),\"\")","v":""},{"$f":"IFERROR(GETPIVOTDATA(\"2021年6月\",⑨2021年6月集計!$A$3,\"ATC4\",$A6,\"ATC4分類名\",$B6),\"\")","v":""}]
["J01CR","βラクタマーゼ阻害薬を含むペニシリン配合剤",{"$f":"IFERROR(GETPIVOTDATA(\"2019年1月\",③2019年1月集計!$A$3,\"ATC4\",$A7,\"ATC4分類名\",$B7),\"\")","v":""},{"$f":"IFERROR(GETPIVOTDATA(\"2019年6月\",⑤2019年6月集計!$A$3,\"ATC4\",$A7,\"ATC4分類名\",$B7),\"\")","v":""},{"$f":"IFERROR(GETPIVOTDATA(\"2021年1月\",⑦2021年1月集計!$A$3,\"ATC4\",$A7,\"ATC4分類名\",$B7),\"\")","v":""},{"$f":"IFERROR(GETPIVOTDATA(\"2021年6月\",⑨2021年6月集計!$A$3,\"ATC4\",$A7,\"ATC4分類名\",$B7),\"\")","v":""}]
["J01DB","第一世代セファロスポリン",{"$f":"IFERROR(GETPIVOTDATA(\"2019年1月\",③2019年1月集計!$A$3,\"ATC4\",$A8,\"ATC4分類名\",$B8),\"\")","v":""},{"$f":"IFERROR(GETPIVOTDATA(\"2019年6月\",⑤2019年6月集計!$A$3,\"ATC4\",$A8,\"ATC4分類名\",$B8),\"\")","v":""},{"$f":"IFERROR(GETPIVOTDATA(\"2021年1月\",⑦2021年1月集計!$A$3,\"ATC4\",$A8,\"ATC4分類名\",$B8),\"\")","v":""},{"$f":"IFERROR(GETPIVOTDATA(\"2021年6月\",⑨2021年6月集計!$A$3,\"ATC4\",$A8,\"ATC4分類名\",$B8),\"\")","v":""}]
["J01DC","第二世代セファロスポリン",{"$f":"IFERROR(GETPIVOTDATA(\"2019年1月\",③2019年1月集計!$A$3,\"ATC4\",$A9,\"ATC4分類名\",$B9),\"\")","v":""},{"$f":"IFERROR(GETPIVOTDATA(\"2019年6月\",⑤2019年6月集計!$A$3,\"ATC4\",$A9,\"ATC4分類名\",$B9),\"\")","v":""},{"$f":"IFERROR(GETPIVOTDATA(\"2021年1月\",⑦2021年1月集計!$A$3,\"ATC4\",$A9,\"ATC4分類名\",$B9),\"\")","v":""},{"$f":"IFERROR(GETPIVOTDATA(\"2021年6月\",⑨2021年6月集計!$A$3,\"ATC4\",$A9,\"ATC4分類名\",$B9),\"\")","v":""}]
["J01DD","第三世代セファロスポリン",{"$f":"IFERROR(GETPIVOTDATA(\"2019年1月\",③2019年1月集計!$A$3,\"ATC4\",$A10,\"ATC4分類名\",$B10),\"\")","v":""},{"$f":"IFERROR(GETPIVOTDATA(\"2019年6月\",⑤2019年6月集計!$A$3,\"ATC4\",$A10,\"ATC4分類名\",$B10),\"\")","v":""},{"$f":"IFERROR(GETPIVOTDATA(\"2021年1月\",⑦2021年1月集計!$A$3,\"ATC4\",$A10,\"ATC4分類名\",$B10),\"\")","v":""},{"$f":"IFERROR(GETPIVOTDATA(\"2021年6月\",⑨2021年6月集計!$A$3,\"ATC4\",$A10,\"ATC4分類名\",$B10),\"\")","v":""}]
["J01DH","カルバペネム",{"$f":"IFERROR(GETPIVOTDATA(\"2019年1月\",③2019年1月集計!$A$3,\"ATC4\",$A11,\"ATC4分類名\",$B11),\"\")","v":""},{"$f":"IFERROR(GETPIVOTDATA(\"2019年6月\",⑤2019年6月集計!$A$3,\"ATC4\",$A11,\"ATC4分類名\",$B11),\"\")","v":""},{"$f":"IFERROR(GETPIVOTDATA(\"2021年1月\",⑦2021年1月集計!$A$3,\"ATC4\",$A11,\"ATC4分類名\",$B11),\"\")","v":""},{"$f":"IFERROR(GETPIVOTDATA(\"2021年6月\",⑨2021年6月集計!$A$3,\"ATC4\",$A11,\"ATC4分類名\",$B11),\"\")","v":""}]
["J01DI","その他のセファロスポリンとぺネム",{"$f":"IFERROR(GETPIVOTDATA(\"2019年1月\",③2019年1月集計!$A$3,\"ATC4\",$A12,\"ATC4分類名\",$B12),\"\")","v":""},{"$f":"IFERROR(GETPIVOTDATA(\"2019年6月\",⑤2019年6月集計!$A$3,\"ATC4\",$A12,\"ATC4分類名\",$B12),\"\")","v":""},{"$f":"IFERROR(GETPIVOTDATA(\"2021年1月\",⑦2021年1月集計!$A$3,\"ATC4\",$A12,\"ATC4分類名\",$B12),\"\")","v":""},{"$f":"IFERROR(GETPIVOTDATA(\"2021年6月\",⑨2021年6月集計!$A$3,\"ATC4\",$A12,\"ATC4分類名\",$B12),\"\")","v":""}]
["J01EB","短時間作用型スルホンアミド",{"$f":"IFERROR(GETPIVOTDATA(\"2019年1月\",③2019年1月集計!$A$3,\"ATC4\",$A13,\"ATC4分類名\",$B13),\"\")","v":""},{"$f":"IFERROR(GETPIVOTDATA(\"2019年6月\",⑤2019年6月集計!$A$3,\"ATC4\",$A13,\"ATC4分類名\",$B13),\"\")","v":""},{"$f":"IFERROR(GETPIVOTDATA(\"2021年1月\",⑦2021年1月集計!$A$3,\"ATC4\",$A13,\"ATC4分類名\",$B13),\"\")","v":""},{"$f":"IFERROR(GETPIVOTDATA(\"2021年6月\",⑨2021年6月集計!$A$3,\"ATC4\",$A13,\"ATC4分類名\",$B13),\"\")","v":""}]
["J01EC","中時間作用型スルホンアミド",{"$f":"IFERROR(GETPIVOTDATA(\"2019年1月\",③2019年1月集計!$A$3,\"ATC4\",$A14,\"ATC4分類名\",$B14),\"\")","v":""},{"$f":"IFERROR(GETPIVOTDATA(\"2019年6月\",⑤2019年6月集計!$A$3,\"ATC4\",$A14,\"ATC4分類名\",$B14),\"\")","v":""},{"$f":"IFERROR(GETPIVOTDATA(\"2021年1月\",⑦2021年1月集計!$A$3,\"ATC4\",$A14,\"ATC4分類名\",$B14),\"\")","v":""},{"$f":"IFERROR(GETPIVOTDATA(\"2021年6月\",⑨2021年6月集計!$A$3,\"ATC4\",$A14,\"ATC4分類名\",$B14),\"\")","v":""}]
["J01ED","長時間作用型スルホンアミド",{"$f":"IFERROR(GETPIVOTDATA(\"2019年1月\",③2019年1月集計!$A$3,\"ATC4\",$A15,\"ATC4分類名\",$B15),\"\")","v":""},{"$f":"IFERROR(GETPIVOTDATA(\"2019年6月\",⑤2019年6月集計!$A$3,\"ATC4\",$A15,\"ATC4分類名\",$B15),\"\")","v":""},{"$f":"IFERROR(GETPIVOTDATA(\"2021年1月\",⑦2021年1月集計!$A$3,\"ATC4\",$A15,\"ATC4分類名\",$B15),\"\")","v":""},{"$f":"IFERROR(GETPIVOTDATA(\"2021年6月\",⑨2021年6月集計!$A$3,\"ATC4\",$A15,\"ATC4分類名\",$B15),\"\")","v":""}]
["J01EE","派生を含むスルホンアミド、トリメトプリム配合剤",{"$f":"IFERROR(GETPIVOTDATA(\"2019年1月\",③2019年1月集計!$A$3,\"ATC4\",$A16,\"ATC4分類名\",$B16),\"\")","v":""},{"$f":"IFERROR(GETPIVOTDATA(\"2019年6月\",⑤2019年6月集計!$A$3,\"ATC4\",$A16,\"ATC4分類名\",$B16),\"\")","v":""},{"$f":"IFERROR(GETPIVOTDATA(\"2021年1月\",⑦2021年1月集計!$A$3,\"ATC4\",$A16,\"ATC4分類名\",$B16),\"\")","v":""},{"$f":"IFERROR(GETPIVOTDATA(\"2021年6月\",⑨2021年6月集計!$A$3,\"ATC4\",$A16,\"ATC4分類名\",$B16),\"\")","v":""}]
["J01FA","マクロライド",{"$f":"IFERROR(GETPIVOTDATA(\"2019年1月\",③2019年1月集計!$A$3,\"ATC4\",$A17,\"ATC4分類名\",$B17),\"\")","v":""},{"$f":"IFERROR(GETPIVOTDATA(\"2019年6月\",⑤2019年6月集計!$A$3,\"ATC4\",$A17,\"ATC4分類名\",$B17),\"\")","v":""},{"$f":"IFERROR(GETPIVOTDATA(\"2021年1月\",⑦2021年1月集計!$A$3,\"ATC4\",$A17,\"ATC4分類名\",$B17),\"\")","v":""},{"$f":"IFERROR(GETPIVOTDATA(\"2021年6月\",⑨2021年6月集計!$A$3,\"ATC4\",$A17,\"ATC4分類名\",$B17),\"\")","v":""}]
["J01FF","リンコサミド",{"$f":"IFERROR(GETPIVOTDATA(\"2019年1月\",③2019年1月集計!$A$3,\"ATC4\",$A18,\"ATC4分類名\",$B18),\"\")","v":""},{"$f":"IFERROR(GETPIVOTDATA(\"2019年6月\",⑤2019年6月集計!$A$3,\"ATC4\",$A18,\"ATC4分類名\",$B18),\"\")","v":""},{"$f":"IFERROR(GETPIVOTDATA(\"2021年1月\",⑦2021年1月集計!$A$3,\"ATC4\",$A18,\"ATC4分類名\",$B18),\"\")","v":""},{"$f":"IFERROR(GETPIVOTDATA(\"2021年6月\",⑨2021年6月集計!$A$3,\"ATC4\",$A18,\"ATC4分類名\",$B18),\"\")","v":""}]
["J01MA","フルオロキノロン",{"$f":"IFERROR(GETPIVOTDATA(\"2019年1月\",③2019年1月集計!$A$3,\"ATC4\",$A19,\"ATC4分類名\",$B19),\"\")","v":""},{"$f":"IFERROR(GETPIVOTDATA(\"2019年6月\",⑤2019年6月集計!$A$3,\"ATC4\",$A19,\"ATC4分類名\",$B19),\"\")","v":""},{"$f":"IFERROR(GETPIVOTDATA(\"2021年1月\",⑦2021年1月集計!$A$3,\"ATC4\",$A19,\"ATC4分類名\",$B19),\"\")","v":""},{"$f":"IFERROR(GETPIVOTDATA(\"2021年6月\",⑨2021年6月集計!$A$3,\"ATC4\",$A19,\"ATC4分類名\",$B19),\"\")","v":""}]
["J01MB","他のキノロン",{"$f":"IFERROR(GETPIVOTDATA(\"2019年1月\",③2019年1月集計!$A$3,\"ATC4\",$A20,\"ATC4分類名\",$B20),\"\")","v":""},{"$f":"IFERROR(GETPIVOTDATA(\"2019年6月\",⑤2019年6月集計!$A$3,\"ATC4\",$A20,\"ATC4分類名\",$B20),\"\")","v":""},{"$f":"IFERROR(GETPIVOTDATA(\"2021年1月\",⑦2021年1月集計!$A$3,\"ATC4\",$A20,\"ATC4分類名\",$B20),\"\")","v":""},{"$f":"IFERROR(GETPIVOTDATA(\"2021年6月\",⑨2021年6月集計!$A$3,\"ATC4\",$A20,\"ATC4分類名\",$B20),\"\")","v":""}]
["J01XX","その他の抗菌薬",{"$f":"IFERROR(GETPIVOTDATA(\"2019年1月\",③2019年1月集計!$A$3,\"ATC4\",$A21,\"ATC4分類名\",$B21),\"\")","v":""},{"$f":"IFERROR(GETPIVOTDATA(\"2019年6月\",⑤2019年6月集計!$A$3,\"ATC4\",$A21,\"ATC4分類名\",$B21),\"\")","v":""},{"$f":"IFERROR(GETPIVOTDATA(\"2021年1月\",⑦2021年1月集計!$A$3,\"ATC4\",$A21,\"ATC4分類名\",$B21),\"\")","v":""},{"$f":"IFERROR(GETPIVOTDATA(\"2021年6月\",⑨2021年6月集計!$A$3,\"ATC4\",$A21,\"ATC4分類名\",$B21),\"\")","v":""}]
[null,"処方せん受付回数",{"$f":"'①　施設情報'!C8","v":0},{"$f":"'①　施設情報'!D8","v":0},{"$f":"'①　施設情報'!E8","v":0},{"$f":"'①　施設情報'!F8","v":0}]
[]
["DPMの計算結果は以下になります。"]
["ATC4","ATC4分類名","2019-01-01","2019-06-01","2021-01-01","2021-06-01"]
["J01AA","テトラサイクリン",{"$f":"IFERROR(C3/$C$22*1000,\"\")","v":""},{"$f":"IFERROR(D3/$D$22*1000,\"\")","v":""},{"$f":"IFERROR(E3/$E$22*1000,\"\")","v":""},{"$f":"IFERROR(F3/$F$22*1000,\"\")","v":""}]
["J01BA","アンフェニコール",{"$f":"IFERROR(C4/$C$22*1000,\"\")","v":""},{"$f":"IFERROR(D4/$D$22*1000,\"\")","v":""},{"$f":"IFERROR(E4/$E$22*1000,\"\")","v":""},{"$f":"IFERROR(F4/$F$22*1000,\"\")","v":""}]
["J01CA","広域ペニシリン","","","",""]
["J01CE","βラクタマーゼ感性ペニシリン","","","",""]
["J01CR","βラクタマーゼ阻害薬を含むペニシリン配合剤","","","",""]
["J01DB","第一世代セファロスポリン","","","",""]
["J01DC","第二世代セファロスポリン","","","",""]
["J01DD","第三世代セファロスポリン","","","",""]
["J01DH","カルバペネム","","","",""]
["J01DI","その他のセファロスポリンとぺネム","","","",""]
["J01EB","短時間作用型スルホンアミド","","","",""]
["J01EC","中時間作用型スルホンアミド","","","",""]
["J01ED","長時間作用型スルホンアミド","","","",""]
["J01EE","派生を含むスルホンアミド、トリメトプリム配合剤","","","",""]
["J01FA","マクロライド","","","",""]
["J01FF","リンコサミド","","","",""]
["J01MA","フルオロキノロン","","","",""]
["J01MB","他のキノロン","","","",""]
["J01XX","その他の抗菌薬","","","",""]
[null,"合計",{"$f":"SUM(C26:C44)","v":0},{"$f":"SUM(D26:D44)","v":0},{"$f":"SUM(E26:E44)","v":0},{"$f":"SUM(F26:F44)","v":0}]
[null,"経口抗菌薬の推移","2019年1月","2019年6月","2021年1月","2021年6月"]
[null,"第3世代セファロスポリン系薬",{"$f":"C33","v":""},{"$f":"D33","v":""},{"$f":"E33","v":""},{"$f":"F33","v":""}]
[null,"キノロン系薬",{"$f":"SUM(C42,C43)","v":0},{"$f":"SUM(D42,D43)","v":0},0,0]
[null,"マクロライド系薬",{"$f":"C40","v":""},{"$f":"D40","v":""},{"$f":"E40","v":""},{"$f":"F40","v":""}]
[null,"その他",{"$f":"C45-(SUM(C47:C49))","v":0},{"$f":"D45-(SUM(D47:D49))","v":0},{"$f":"E45-(SUM(E47:E49))","v":0},{"$f":"F45-(SUM(F47:F49))","v":0}]
[null,"経口抗菌薬の使用割合","2019年1月","2019年6月","2021年1月","2021年6月"]
[null,"第3世代セファロスポリン系薬",{"$f":"C47/$C$45*100","v":{"$error":"#VALUE!"}},{"$f":"D47/$D$45*100","v":{"$error":"#VALUE!"}},{"$f":"E47/$E$45*100","v":{"$error":"#VALUE!"}},{"$f":"F47/$F$45*100","v":{"$error":"#VALUE!"}}]
[null,"キノロン系薬",{"$f":"C48/$C$45*100","v":{"$error":"#DIV/0!"}},{"$f":"D48/$D$45*100","v":{"$error":"#DIV/0!"}},{"$f":"E48/$E$45*100","v":{"$error":"#DIV/0!"}},{"$f":"F48/$F$45*100","v":{"$error":"#DIV/0!"}}]
[null,"マクロライド系薬",{"$error":"#VALUE!"},{"$error":"#VALUE!"},{"$error":"#VALUE!"},{"$error":"#VALUE!"}]
[null,"その他",{"$error":"#DIV/0!"},{"$error":"#DIV/0!"},{"$error":"#DIV/0!"},{"$error":"#DIV/0!"}]

{"sheet":"⑪集計用","index":10,"n_rows":5,"n_cols":41,"rows_kept":5,"cut":false,"hidden":false,"merged":[]}
["調査年月","都道府県","処方箋受付回数","受付医療機関数","集中率","立地条件","立地場所","病院形態","集中率の高い診療科","小児科集中率","耳鼻科集中率","J01AA","J01BA","J01CA","J01CE","J01CR","J01DB","J01DC","J01DD","J01DH","J01DI","J01EB","J01EC","J01ED","J01EE","J01FA","J01FF","J01MA","J01MB","J01XX","合計","経口抗菌薬の推移","第3世代セファロスポリン系薬","キノロン系薬","マクロライド系薬","その他","経口抗菌薬の使用割合","第3世代セファロスポリン系薬","キノロン系薬","マクロライド系薬","その他"]
[{"$f":"'①　施設情報'!C6","v":"2019年1月"},{"$f":"'①　施設情報'!C7","v":0},{"$f":"'①　施設情報'!C8","v":0},{"$f":"'①　施設情報'!C9","v":0},{"$f":"'①　施設情報'!C10","v":0},{"$f":"'①　施設情報'!C11","v":0},{"$f":"'①　施設情報'!C12","v":0},{"$f":"'①　施設情報'!C13","v":0},{"$f":"'①　施設情報'!C14","v":0},{"$f":"'①　施設情報'!C15","v":0},{"$f":"'①　施設情報'!C16","v":0},{"$f":"⑩グラフ作成!C26","v":""},{"$f":"⑩グラフ作成!C27","v":""},{"$f":"⑩グラフ作成!C28","v":""},{"$f":"⑩グラフ作成!C29","v":""},{"$f":"⑩グラフ作成!C30","v":""},{"$f":"⑩グラフ作成!C31","v":""},{"$f":"⑩グラフ作成!C32","v":""},{"$f":"⑩グラフ作成!C33","v":""},{"$f":"⑩グラフ作成!C34","v":""},{"$f":"⑩グラフ作成!C35","v":""},{"$f":"⑩グラフ作成!C36","v":""},{"$f":"⑩グラフ作成!C37","v":""},{"$f":"⑩グラフ作成!C38","v":""},{"$f":"⑩グラフ作成!C39","v":""},{"$f":"⑩グラフ作成!C40","v":""},{"$f":"⑩グラフ作成!C41","v":""},{"$f":"⑩グラフ作成!C42","v":""},{"$f":"⑩グラフ作成!C43","v":""},{"$f":"⑩グラフ作成!C44","v":""},{"$f":"⑩グラフ作成!C45","v":0},{"$f":"⑩グラフ作成!C46","v":"2019年1月"},{"$f":"⑩グラフ作成!C47","v":""},{"$f":"⑩グラフ作成!C48","v":0},{"$f":"⑩グラフ作成!C49","v":""},{"$f":"⑩グラフ作成!C50","v":0},{"$f":"⑩グラフ作成!C51","v":"2019年1月"},{"$f":"⑩グラフ作成!C52","v":{"$error":"#VALUE!"}},{"$f":"⑩グラフ作成!C53","v":{"$error":"#DIV/0!"}},{"$f":"⑩グラフ作成!C54","v":{"$error":"#VALUE!"}},{"$f":"⑩グラフ作成!C55","v":{"$error":"#DIV/0!"}}]
[{"$f":"'①　施設情報'!D6","v":"2019年6月"},{"$f":"'①　施設情報'!D7","v":0},{"$f":"'①　施設情報'!D8","v":0},{"$f":"'①　施設情報'!D9","v":0},{"$f":"'①　施設情報'!D10","v":0},{"$f":"'①　施設情報'!D11","v":0},{"$f":"'①　施設情報'!D12","v":0},{"$f":"'①　施設情報'!D13","v":0},{"$f":"'①　施設情報'!D14","v":0},{"$f":"'①　施設情報'!D15","v":0},{"$f":"'①　施設情報'!D16","v":0},{"$f":"⑩グラフ作成!D26","v":""},{"$f":"⑩グラフ作成!D27","v":""},{"$f":"⑩グラフ作成!D28","v":""},{"$f":"⑩グラフ作成!D29","v":""},{"$f":"⑩グラフ作成!D30","v":""},{"$f":"⑩グラフ作成!D31","v":""},{"$f":"⑩グラフ作成!D32","v":""},{"$f":"⑩グラフ作成!D33","v":""},{"$f":"⑩グラフ作成!D34","v":""},{"$f":"⑩グラフ作成!D35","v":""},{"$f":"⑩グラフ作成!D36","v":""},{"$f":"⑩グラフ作成!D37","v":""},{"$f":"⑩グラフ作成!D38","v":""},{"$f":"⑩グラフ作成!D39","v":""},{"$f":"⑩グラフ作成!D40","v":""},{"$f":"⑩グラフ作成!D41","v":""},{"$f":"⑩グラフ作成!D42","v":""},{"$f":"⑩グラフ作成!D43","v":""},{"$f":"⑩グラフ作成!D44","v":""},{"$f":"⑩グラフ作成!D45","v":0},{"$f":"⑩グラフ作成!D46","v":"2019年6月"},{"$f":"⑩グラフ作成!D47","v":""},{"$f":"⑩グラフ作成!D48","v":0},{"$f":"⑩グラフ作成!D49","v":""},{"$f":"⑩グラフ作成!D50","v":0},{"$f":"⑩グラフ作成!D51","v":"2019年6月"},{"$f":"⑩グラフ作成!D52","v":{"$error":"#VALUE!"}},{"$f":"⑩グラフ作成!D53","v":{"$error":"#DIV/0!"}},{"$f":"⑩グラフ作成!D54","v":{"$error":"#VALUE!"}},{"$f":"⑩グラフ作成!D55","v":{"$error":"#DIV/0!"}}]
[{"$f":"'①　施設情報'!E6","v":"2021年1月"},{"$f":"'①　施設情報'!E7","v":0},{"$f":"'①　施設情報'!E8","v":0},{"$f":"'①　施設情報'!E9","v":0},{"$f":"'①　施設情報'!E10","v":0},{"$f":"'①　施設情報'!E11","v":0},{"$f":"'①　施設情報'!E12","v":0},{"$f":"'①　施設情報'!E13","v":0},{"$f":"'①　施設情報'!E14","v":0},{"$f":"'①　施設情報'!E15","v":0},{"$f":"'①　施設情報'!E16","v":0},{"$f":"⑩グラフ作成!E26","v":""},{"$f":"⑩グラフ作成!E27","v":""},{"$f":"⑩グラフ作成!E28","v":""},{"$f":"⑩グラフ作成!E29","v":""},{"$f":"⑩グラフ作成!E30","v":""},{"$f":"⑩グラフ作成!E31","v":""},{"$f":"⑩グラフ作成!E32","v":""},{"$f":"⑩グラフ作成!E33","v":""},{"$f":"⑩グラフ作成!E34","v":""},{"$f":"⑩グラフ作成!E35","v":""},{"$f":"⑩グラフ作成!E36","v":""},{"$f":"⑩グラフ作成!E37","v":""},{"$f":"⑩グラフ作成!E38","v":""},{"$f":"⑩グラフ作成!E39","v":""},{"$f":"⑩グラフ作成!E40","v":""},{"$f":"⑩グラフ作成!E41","v":""},{"$f":"⑩グラフ作成!E42","v":""},{"$f":"⑩グラフ作成!E43","v":""},{"$f":"⑩グラフ作成!E44","v":""},{"$f":"⑩グラフ作成!E45","v":0},{"$f":"⑩グラフ作成!E46","v":"2021年1月"},{"$f":"⑩グラフ作成!E47","v":""},{"$f":"⑩グラフ作成!E48","v":0},{"$f":"⑩グラフ作成!E49","v":""},{"$f":"⑩グラフ作成!E50","v":0},{"$f":"⑩グラフ作成!E51","v":"2021年1月"},{"$f":"⑩グラフ作成!E52","v":{"$error":"#VALUE!"}},{"$f":"⑩グラフ作成!E53","v":{"$error":"#DIV/0!"}},{"$f":"⑩グラフ作成!E54","v":{"$error":"#VALUE!"}},{"$f":"⑩グラフ作成!E55","v":{"$error":"#DIV/0!"}}]
[{"$f":"'①　施設情報'!F6","v":"2021年6月"},{"$f":"'①　施設情報'!F7","v":0},{"$f":"'①　施設情報'!F8","v":0},{"$f":"'①　施設情報'!F9","v":0},{"$f":"'①　施設情報'!F10","v":0},{"$f":"'①　施設情報'!F11","v":0},{"$f":"'①　施設情報'!F12","v":0},{"$f":"'①　施設情報'!F13","v":0},{"$f":"'①　施設情報'!F14","v":0},{"$f":"'①　施設情報'!F15","v":0},{"$f":"'①　施設情報'!F16","v":0},{"$f":"⑩グラフ作成!F26","v":""},{"$f":"⑩グラフ作成!F27","v":""},{"$f":"⑩グラフ作成!F28","v":""},{"$f":"⑩グラフ作成!F29","v":""},{"$f":"⑩グラフ作成!F30","v":""},{"$f":"⑩グラフ作成!F31","v":""},{"$f":"⑩グラフ作成!F32","v":""},{"$f":"⑩グラフ作成!F33","v":""},{"$f":"⑩グラフ作成!F34","v":""},{"$f":"⑩グラフ作成!F35","v":""},{"$f":"⑩グラフ作成!F36","v":""},{"$f":"⑩グラフ作成!F37","v":""},{"$f":"⑩グラフ作成!F38","v":""},{"$f":"⑩グラフ作成!F39","v":""},{"$f":"⑩グラフ作成!F40","v":""},{"$f":"⑩グラフ作成!F41","v":""},{"$f":"⑩グラフ作成!F42","v":""},{"$f":"⑩グラフ作成!F43","v":""},{"$f":"⑩グラフ作成!F44","v":""},{"$f":"⑩グラフ作成!F45","v":0},{"$f":"⑩グラフ作成!F46","v":"2021年6月"},{"$f":"⑩グラフ作成!F47","v":""},{"$f":"⑩グラフ作成!F48","v":0},{"$f":"⑩グラフ作成!F49","v":""},{"$f":"⑩グラフ作成!F50","v":0},{"$f":"⑩グラフ作成!F51","v":"2021年6月"},{"$f":"⑩グラフ作成!F52","v":{"$error":"#VALUE!"}},{"$f":"⑩グラフ作成!F53","v":{"$error":"#DIV/0!"}},{"$f":"⑩グラフ作成!F54","v":{"$error":"#VALUE!"}},{"$f":"⑩グラフ作成!F55","v":{"$error":"#DIV/0!"}}]